BEGIN:VCALENDAR
VERSION:2.0
PRODID:-//Tukios.com/
BEGIN:VEVENT
UID:e9f96ab4-1920-4947-83b3-eb6eff027e9e@www.kellycremation.com
DTSTAMP:20260426T002834Z
DTSTART:20260430T150000Z
DTEND:20260430T160000Z
SUMMARY:Funeral Service
DESCRIPTION:
URL:https://www.kellycremation.com/obituaries/ronald-roy
LOCATION:Kelly Cremation & Funeral Care 154 Lincoln Street  Worcester MA 
	01605
GEO:42.2792777;-71.7940803
END:VEVENT
END:VCALENDAR