BEGIN:VCALENDAR
VERSION:2.0
PRODID:-//Tukios.com/
BEGIN:VEVENT
UID:a1dbfc00-58bd-4f6f-b4e7-5232f9014a92@www.kellycremation.com
DTSTAMP:20260426T003619Z
DTSTART:20260430T130000Z
DTEND:20260430T150000Z
SUMMARY:Visitation
DESCRIPTION:
URL:https://www.kellycremation.com/obituaries/ronald-roy
LOCATION:Kelly Cremation & Funeral Care 154 Lincoln Street  Worcester MA 
	01605
GEO:42.2792777;-71.7940803
END:VEVENT
END:VCALENDAR