BEGIN:VCALENDAR
VERSION:2.0
PRODID:-//Tukios.com/
BEGIN:VEVENT
UID:eddc9abd-e275-448f-a7c0-fd72a9c3836f@www.kellycremation.com
DTSTAMP:20260422T225951Z
DTSTART:20260427T150000Z
DTEND:20260427T160000Z
SUMMARY:Mass
DESCRIPTION:
URL:https://www.kellycremation.com/obituaries/john-burke-jr
LOCATION:Immaculate Conception 353 Grove Street  Worcester MA 01605
GEO:42.2861037;-71.8096015
END:VEVENT
END:VCALENDAR