BEGIN:VCALENDAR
VERSION:2.0
PRODID:-//Tukios.com/
BEGIN:VEVENT
UID:803ae5c1-6824-4d96-92aa-98e701eab5da@www.kellycremation.com
DTSTAMP:20260422T230027Z
DTSTART:20260426T200000Z
DTEND:20260426T230000Z
SUMMARY:Visitation
DESCRIPTION:
URL:https://www.kellycremation.com/obituaries/john-burke-jr
LOCATION: 154 Lincoln St.  Worcester MA 01605
GEO:42.2792777;-71.7940803
END:VEVENT
END:VCALENDAR